BEGIN:VCALENDAR
VERSION:2.0
PRODID:-//Ancient Accepted Scottish Rite - ECPv6.15.13.1//NONSGML v1.0//EN
CALSCALE:GREGORIAN
METHOD:PUBLISH
X-WR-CALNAME:Ancient Accepted Scottish Rite
X-ORIGINAL-URL:https://scottishriteboston.org
X-WR-CALDESC:Events for Ancient Accepted Scottish Rite
REFRESH-INTERVAL;VALUE=DURATION:PT1H
X-Robots-Tag:noindex
X-PUBLISHED-TTL:PT1H
BEGIN:VTIMEZONE
TZID:America/New_York
BEGIN:DAYLIGHT
TZOFFSETFROM:-0500
TZOFFSETTO:-0400
TZNAME:EDT
DTSTART:20230312T070000
END:DAYLIGHT
BEGIN:STANDARD
TZOFFSETFROM:-0400
TZOFFSETTO:-0500
TZNAME:EST
DTSTART:20231105T060000
END:STANDARD
BEGIN:DAYLIGHT
TZOFFSETFROM:-0500
TZOFFSETTO:-0400
TZNAME:EDT
DTSTART:20240310T070000
END:DAYLIGHT
BEGIN:STANDARD
TZOFFSETFROM:-0400
TZOFFSETTO:-0500
TZNAME:EST
DTSTART:20241103T060000
END:STANDARD
BEGIN:DAYLIGHT
TZOFFSETFROM:-0500
TZOFFSETTO:-0400
TZNAME:EDT
DTSTART:20250309T070000
END:DAYLIGHT
BEGIN:STANDARD
TZOFFSETFROM:-0400
TZOFFSETTO:-0500
TZNAME:EST
DTSTART:20251102T060000
END:STANDARD
END:VTIMEZONE
BEGIN:VEVENT
DTSTART;TZID=America/New_York:20240804T080000
DTEND;TZID=America/New_York:20240804T170000
DTSTAMP:20260421T123112
CREATED:20240520T161631Z
LAST-MODIFIED:20240806T105741Z
UID:3339-1722758400-1722790800@scottishriteboston.org
SUMMARY:Water Country
DESCRIPTION:Registration for the next Family Life event is now open! On Sunday\, August 4\, 2024\, we will be going to Water Country in Portsmouth\, New Hampshire to enjoy a day of sun and fun. Tickets are limited\, so don’t wait\, register today! \nWater Country is an independent water park with 26 acres filled with 12 water slides\, a lazy river\, wave pool\, and so much more! There’s something for every member of the family\, from young children and teens\, to parents and grandparents. When you need a break from the fun\, there’s plenty of food\, drinks\, and snacks available\, and picnic areas to relax. \nTickets cost $20 per person\, and we have 200 tickets. You don’t want to miss out on this\, so register today by clicking the link below! \n\nRegister Here!
URL:https://scottishriteboston.org/event-testing/water-country/
LOCATION:Water Country\, 2300 Lafayette Rd\, Portsmouth\, NH\, 03801\, United States
CATEGORIES:Public Viewing NFP
ATTACH;FMTTYPE=image/webp:https://scottishriteboston.org/wp-content/uploads/2024/04/Water-Country.webp
END:VEVENT
END:VCALENDAR