BEGIN:VCALENDAR
VERSION:2.0
PRODID:-//Ancient Accepted Scottish Rite - ECPv6.15.13.1//NONSGML v1.0//EN
CALSCALE:GREGORIAN
METHOD:PUBLISH
X-ORIGINAL-URL:https://scottishriteboston.org
X-WR-CALDESC:Events for Ancient Accepted Scottish Rite
REFRESH-INTERVAL;VALUE=DURATION:PT1H
X-Robots-Tag:noindex
X-PUBLISHED-TTL:PT1H
BEGIN:VTIMEZONE
TZID:America/New_York
BEGIN:DAYLIGHT
TZOFFSETFROM:-0500
TZOFFSETTO:-0400
TZNAME:EDT
DTSTART:20230312T070000
END:DAYLIGHT
BEGIN:STANDARD
TZOFFSETFROM:-0400
TZOFFSETTO:-0500
TZNAME:EST
DTSTART:20231105T060000
END:STANDARD
BEGIN:DAYLIGHT
TZOFFSETFROM:-0500
TZOFFSETTO:-0400
TZNAME:EDT
DTSTART:20240310T070000
END:DAYLIGHT
BEGIN:STANDARD
TZOFFSETFROM:-0400
TZOFFSETTO:-0500
TZNAME:EST
DTSTART:20241103T060000
END:STANDARD
BEGIN:DAYLIGHT
TZOFFSETFROM:-0500
TZOFFSETTO:-0400
TZNAME:EDT
DTSTART:20250309T070000
END:DAYLIGHT
BEGIN:STANDARD
TZOFFSETFROM:-0400
TZOFFSETTO:-0500
TZNAME:EST
DTSTART:20251102T060000
END:STANDARD
END:VTIMEZONE
BEGIN:VEVENT
DTSTART;VALUE=DATE:20240929
DTEND;VALUE=DATE:20240930
DTSTAMP:20260422T042948
CREATED:20240805T233307Z
LAST-MODIFIED:20241122T141752Z
UID:3391-1727568000-1727654399@scottishriteboston.org
SUMMARY:Myopia Polo Match
DESCRIPTION:
URL:https://scottishriteboston.org/event-testing/myopia-polo-match/
LOCATION:Myopia Polo Grounds\, 435 Bay Rd\, South Hamilton\, MA\, 01982\, United States
CATEGORIES:Public Viewing NFP
ATTACH;FMTTYPE=image/png:https://scottishriteboston.org/wp-content/uploads/2024/06/Myopia.png
END:VEVENT
END:VCALENDAR