BEGIN:VCALENDAR
VERSION:2.0
PRODID:-//Ancient Accepted Scottish Rite - ECPv6.15.13.1//NONSGML v1.0//EN
CALSCALE:GREGORIAN
METHOD:PUBLISH
X-WR-CALNAME:Ancient Accepted Scottish Rite
X-ORIGINAL-URL:https://scottishriteboston.org
X-WR-CALDESC:Events for Ancient Accepted Scottish Rite
REFRESH-INTERVAL;VALUE=DURATION:PT1H
X-Robots-Tag:noindex
X-PUBLISHED-TTL:PT1H
BEGIN:VTIMEZONE
TZID:America/New_York
BEGIN:DAYLIGHT
TZOFFSETFROM:-0500
TZOFFSETTO:-0400
TZNAME:EDT
DTSTART:20250309T070000
END:DAYLIGHT
BEGIN:STANDARD
TZOFFSETFROM:-0400
TZOFFSETTO:-0500
TZNAME:EST
DTSTART:20251102T060000
END:STANDARD
BEGIN:DAYLIGHT
TZOFFSETFROM:-0500
TZOFFSETTO:-0400
TZNAME:EDT
DTSTART:20260308T070000
END:DAYLIGHT
BEGIN:STANDARD
TZOFFSETFROM:-0400
TZOFFSETTO:-0500
TZNAME:EST
DTSTART:20261101T060000
END:STANDARD
BEGIN:DAYLIGHT
TZOFFSETFROM:-0500
TZOFFSETTO:-0400
TZNAME:EDT
DTSTART:20270314T070000
END:DAYLIGHT
BEGIN:STANDARD
TZOFFSETFROM:-0400
TZOFFSETTO:-0500
TZNAME:EST
DTSTART:20271107T060000
END:STANDARD
END:VTIMEZONE
BEGIN:VEVENT
DTSTART;TZID=America/New_York:20260425T180000
DTEND;TZID=America/New_York:20260425T210000
DTSTAMP:20260425T062004
CREATED:20260116T173541Z
LAST-MODIFIED:20260116T173716Z
UID:4661-1777140000-1777150800@scottishriteboston.org
SUMMARY:Valley of Pittsfield - Dr. Joseph Warren Event
DESCRIPTION:The Valley of Pittsfield is very fortunate to be hosting noted historian Brother Christian Di Spigna on Saturday 04/25\, from 6:00 PM to 9:00 PM at the Pittsfield Masonic Building in Pittsfield\, MA. Brother Di Spigna will be discussing both his highly acclaimed biography\, “Founding Martyr: The Life and Death of Dr. Joseph Warren\, the American Revolution’s Lost Hero” as well as the Dr. Joseph Warren Documentary currently being produced by the Dr. Joseph Warren Foundation. A spaghetti dinner will be held at 6:00 PM – A $10.00 per person donation for dinner is suggested with part of the proceeds going to support the Valley’s Berkshire County Charitable Giving Program – Brother Di Spigna’s presentation will begin at 7:00 PM. \n\n\nOn behalf of the Valley\, we would like to extend an invitation to our Scottish Rite brethren from the Valley of Boston\, as well as their families & friends\, to join us for what should be an exceptional evening of fraternalism and education. Attached below is the flyer for the event\, attractions in the area\, and a list of nearby hotels. \nWarren.04.25.Masonic \nPittsfield.Area.Hotels \nBerkshire.Attractions
URL:https://scottishriteboston.org/event-testing/valley-of-pittsfield-dr-joseph-warren-event/
CATEGORIES:Public Viewing
ATTACH;FMTTYPE=image/webp:https://scottishriteboston.org/wp-content/uploads/2023/04/SR-e1713461312407.webp
END:VEVENT
END:VCALENDAR